BEGIN:VCALENDAR
VERSION:2.0
PRODID:-//132.216.98.100//NONSGML kigkonsult.se iCalcreator 2.20.4//
BEGIN:VEVENT
UID:20260423T120615EDT-8111nM0zlk@132.216.98.100
DTSTAMP:20260423T160615Z
DESCRIPTION: \n\nJoignez-vous à nous pour un film / une activité de finance
 ment pour la Fondation canadienne des ergothérapeutes (COTF).\n\nJoignez-v
 ous à POTUS pour un film / une activité de financement le 25 mars à 18 h p
 our la Fondation canadienne de l'ergothérapie (COTF)! Soirée cinéma et dis
 cussion en groupe: documentaire primé qui raconte l'incroyable histoire de
  Will Lautzenheiser. Participer à une table ronde sur son voyage après l'a
 mputation de ses deux bras et de ses jambes\, puis une replantation à doub
 le bras. Vous trouverez plus de détails sur le local et les coûts sur le s
 ite Web POTUS de SPOT.\n
DTSTART:20190325T220000Z
DTEND:20190326T000000Z
SUMMARY:Movie fundraiser for COTF - Levée de fonds
URL:https://www.mcgill.ca/channels/fr/channels/event/movie-fundraiser-cotf-
 levee-de-fonds-293939
END:VEVENT
END:VCALENDAR
